BEGIN:VCALENDAR
VERSION:2.0
PRODID:-//Ds Connections Nw - Down Syndrome Connections Northwest - ECPv6.15.20//NONSGML v1.0//EN
CALSCALE:GREGORIAN
METHOD:PUBLISH
X-ORIGINAL-URL:https://dsconnectionsnw.org
X-WR-CALDESC:Events for Ds Connections Nw - Down Syndrome Connections Northwest
REFRESH-INTERVAL;VALUE=DURATION:PT1H
X-Robots-Tag:noindex
X-PUBLISHED-TTL:PT1H
BEGIN:VTIMEZONE
TZID:America/Los_Angeles
BEGIN:DAYLIGHT
TZOFFSETFROM:-0800
TZOFFSETTO:-0700
TZNAME:PDT
DTSTART:20240310T100000
END:DAYLIGHT
BEGIN:STANDARD
TZOFFSETFROM:-0700
TZOFFSETTO:-0800
TZNAME:PST
DTSTART:20241103T090000
END:STANDARD
BEGIN:DAYLIGHT
TZOFFSETFROM:-0800
TZOFFSETTO:-0700
TZNAME:PDT
DTSTART:20250309T100000
END:DAYLIGHT
BEGIN:STANDARD
TZOFFSETFROM:-0700
TZOFFSETTO:-0800
TZNAME:PST
DTSTART:20251102T090000
END:STANDARD
BEGIN:DAYLIGHT
TZOFFSETFROM:-0800
TZOFFSETTO:-0700
TZNAME:PDT
DTSTART:20260308T100000
END:DAYLIGHT
BEGIN:STANDARD
TZOFFSETFROM:-0700
TZOFFSETTO:-0800
TZNAME:PST
DTSTART:20261101T090000
END:STANDARD
END:VTIMEZONE
BEGIN:VEVENT
DTSTART;TZID=America/Los_Angeles:20250620T090000
DTEND;TZID=America/Los_Angeles:20250918T170000
DTSTAMP:20260423T190839
CREATED:20250606T191703Z
LAST-MODIFIED:20250620T222020Z
UID:3975-1750410000-1758214800@dsconnectionsnw.org
SUMMARY:Past Walk T-shirts
DESCRIPTION:DsCNW Past Walk Tees – Suggested Donation \nT-shirts are suggested donation of $5 each or pick 4 get one extra – only $20 donation for 5 t-shirts! \nUse code ‘pick4get1‘ to get your extra t-shirt. \nHead to our zeffy\, link on the right of this page\, where all colors and sizes are listed.  Donate and get some new summer tees – it’s a win-win!
URL:https://dsconnectionsnw.org/event/past-walk-t-shirts/
LOCATION:Ds Connections Northwest\, 3839 W. Prairie Ave\, Hayden\, 83835\, United States
END:VEVENT
BEGIN:VEVENT
DTSTART;TZID=America/Los_Angeles:20250917T180000
DTEND;TZID=America/Los_Angeles:20250917T200000
DTSTAMP:20260423T190839
CREATED:20250215T165219Z
LAST-MODIFIED:20250215T165219Z
UID:3839-1758132000-1758139200@dsconnectionsnw.org
SUMMARY:Alyssa's Teen & Young Adult Meetup in Spokane Valley - September Meetup
DESCRIPTION:Let’s enjoy music\, fun\, laughter\, smiles and all that Alyssa and Chad can dream up. The DsConnectionsNW teem and young adult group in the Spokane Valley is all about making new friends\, finding out what you like to do\, and learning new skills. You won’t want to miss a thing!
URL:https://dsconnectionsnw.org/event/alyssas-teen-young-adult-meetup-in-spokane-valley-september-meetup/
LOCATION:Stepping Stones Pediatric Therapy Center\, 15920 E Indiana Ave\, Spokane Valley\, WA\, 99216\, United States
END:VEVENT
BEGIN:VEVENT
DTSTART;TZID=America/Los_Angeles:20250920T090000
DTEND;TZID=America/Los_Angeles:20250920T130000
DTSTAMP:20260423T190839
CREATED:20250227T220602Z
LAST-MODIFIED:20250620T233018Z
UID:3859-1758358800-1758373200@dsconnectionsnw.org
SUMMARY:Step Up for Down syndrome Walk
DESCRIPTION:We are thrilled to announce that the 17th Annual Inland NW Step UP for Down Syndrome Walk will take place in partnership with Valleyfest in Spokane Valley\, WA\, on September 20\, 2025! \n\n\n2025 Step Up for Down Syndrome Walk is on!\n\n\nAs our community continues to grow\, so does the need for our programs serving families in Northern Idaho and Eastern Washington. The Step UP for Ds Walk is our flagship fundraising event\, and we are excited to see where this year’s event will take us. Your support\, as well as the support of businesses and organizations based in Washington and Idaho\, enable us to continue offering vital programs and events\, empowering families and individuals with Down syndrome. \n\nDsCNW Presents \n2025 Step Up for Down Syndrome Walk \nSaturday\, September 20\, 2025 \nDiscovery Playground \n2426 N Discovery Pl\, Spokane Valley\, WA 99216 \n9am-1pm \nRegistration is $25 until July 1st\, then the price increases \nREGISTER TODAY! Join the fun! \n– In Person OR Virtual Walk options- \nREGISTER HERE!\nThanks to You\, We’re Making a Difference! \nBecause of your support\, Ds Connections NW continues to provide vital resources\, advocacy\, and community for individuals and families throughout the Inland Northwest whose lives are touched by Down syndrome. \nGet Involved Today! \n\nCreate a Team\nSponsor a Walker\nInvite Friends\, Family & Co-workers\nWalk and Donate!\n\nTogether\, we’re building a stronger\, more inclusive community—one step at a time. \nYour Support Makes a Lasting Impact \nAs you consider a donation or sponsorship—whether for a team or an individual walker—please know that 100% of proceeds benefit Ds Connections NW and our ongoing mission to improve the quality of life for individuals with Down syndrome\, their families\, and the broader community. \nDs Connections NW is a 501(c)(3) nonprofit organization.
URL:https://dsconnectionsnw.org/event/step-up-for-down-syndrome-walk/
LOCATION:Discovery Playground\, 2426 N Discovery Pl\, Spokane Valley\, WA\, 99216
ATTACH;FMTTYPE=image/png:https://dsconnectionsnw.org/wp-content/uploads/2025/02/2025-Walk-Vertical-Shirt-Image-v2.png
END:VEVENT
BEGIN:VEVENT
DTSTART;TZID=America/Los_Angeles:20250928T110000
DTEND;TZID=America/Los_Angeles:20250928T130000
DTSTAMP:20260423T190839
CREATED:20250903T001012Z
LAST-MODIFIED:20250903T001012Z
UID:4239-1759057200-1759064400@dsconnectionsnw.org
SUMMARY:Step Up Walk 2025 - Quad Cities
DESCRIPTION:Join us for a day of celebration with our Down syndrome community!\nWe’ll kick things off with our walk\, then enjoy a delicious lunch together—brats\, hot dogs\, chips\, and drinks will be waiting for you.\nDJ Olie will be spinning everyone’s favorite tunes to keep the energy high and the fun going strong.\nBring your friends\, family\, and big smiles—come celebrate with us!\nFor more info\, click here.\nREGISTER ONLINE BY SEPTEMBER 5 FOR ONE OF THESE WALK OPTIONS:\n— NO T-SHIRT OPTION: Just come and walk and have lunch with us! – FREE\nOR\n— T-SHIRT AND LUNCH OPTION – $20\nDon’t miss out! Register today!\nT-shirt registration is free for individuals with Down syndrome when accompanied by a paid adult registration.\n*T-shirts\, and t-shirt sizes guaranteed with registrations made by September 13th\, 2025. But\, we ordered a few extra shirts so register now\, before size choices are no longer available.*\n*Online registration stays open through 5pm\, September 24th 2025. Registration opens again (in person) at 11am the morning of the Walk!*
URL:https://dsconnectionsnw.org/event/step-up-walk-2025-quad-cities/
LOCATION:Genesee Park\, Corner of Walnut and Laurel\, Genesee\, ID\, 83832
ATTACH;FMTTYPE=image/png:https://dsconnectionsnw.org/wp-content/uploads/2025/09/2025-Walk-Final-Shirt-Image-Quad-Cities-scaled.png
END:VEVENT
BEGIN:VEVENT
DTSTART;TZID=America/Los_Angeles:20250930T180000
DTEND;TZID=America/Los_Angeles:20250930T200000
DTSTAMP:20260423T190839
CREATED:20250304T001255Z
LAST-MODIFIED:20250304T001255Z
UID:3884-1759255200-1759262400@dsconnectionsnw.org
SUMMARY:Zion's Game Night
DESCRIPTION:Let’s get together! Teen/Young Adults (ages 15-35) are you ready for a wonderful time? There will be great music\, snacks\, beverages and best of all – Friends & Fun. You won’t want to miss this ’cause Zion puts on quite a evening.
URL:https://dsconnectionsnw.org/event/zions-game-night-7/
LOCATION:Ds Connections Northwest\, 3839 W. Prairie Ave\, Hayden\, 83835\, United States
END:VEVENT
END:VCALENDAR