BEGIN:VCALENDAR
VERSION:2.0
PRODID:-//Ds Connections Nw - Down Syndrome Connections Northwest - ECPv6.15.20//NONSGML v1.0//EN
CALSCALE:GREGORIAN
METHOD:PUBLISH
X-WR-CALNAME:Ds Connections Nw - Down Syndrome Connections Northwest
X-ORIGINAL-URL:https://dsconnectionsnw.org
X-WR-CALDESC:Events for Ds Connections Nw - Down Syndrome Connections Northwest
REFRESH-INTERVAL;VALUE=DURATION:PT1H
X-Robots-Tag:noindex
X-PUBLISHED-TTL:PT1H
BEGIN:VTIMEZONE
TZID:America/Los_Angeles
BEGIN:DAYLIGHT
TZOFFSETFROM:-0800
TZOFFSETTO:-0700
TZNAME:PDT
DTSTART:20240310T100000
END:DAYLIGHT
BEGIN:STANDARD
TZOFFSETFROM:-0700
TZOFFSETTO:-0800
TZNAME:PST
DTSTART:20241103T090000
END:STANDARD
BEGIN:DAYLIGHT
TZOFFSETFROM:-0800
TZOFFSETTO:-0700
TZNAME:PDT
DTSTART:20250309T100000
END:DAYLIGHT
BEGIN:STANDARD
TZOFFSETFROM:-0700
TZOFFSETTO:-0800
TZNAME:PST
DTSTART:20251102T090000
END:STANDARD
BEGIN:DAYLIGHT
TZOFFSETFROM:-0800
TZOFFSETTO:-0700
TZNAME:PDT
DTSTART:20260308T100000
END:DAYLIGHT
BEGIN:STANDARD
TZOFFSETFROM:-0700
TZOFFSETTO:-0800
TZNAME:PST
DTSTART:20261101T090000
END:STANDARD
END:VTIMEZONE
BEGIN:VEVENT
DTSTART;TZID=America/Los_Angeles:20250501T180000
DTEND;TZID=America/Los_Angeles:20250501T190000
DTSTAMP:20260424T005244
CREATED:20250412T031152Z
LAST-MODIFIED:20250412T031152Z
UID:3920-1746122400-1746126000@dsconnectionsnw.org
SUMMARY:Planning For the Future with Jason Roesler
DESCRIPTION:Planning for the Future with Jason Roesler \nThursday\, May 1st\, 6-7pm (via zoom)\n\n\nOne of the most important questions parents who have a child with special needs ask themselves is …What’s going to happen to my child when I’m no longer here? To a large degree\, the answer to the question will depend on the steps you begin taking today to arrange for your child’s future well-being. Please join Jason Roesler\, Nic’s dad and Chief Operating Officer at C1 Wealth Management on Thursday\, April 18th for a free informational workshop on Planning for Children with Special Needs. \nSome of the topics to be discussed are: \n\n\nThe importance of wills/estate planning \n\n\n529A – ABLE Accounts \n\n\nFinancial limits and rules to be aware of \n\n\nSpecial Needs Trusts \n\n\nInformation gives you peace of mind and creating a plan gives you a goal. Jason will assist with both of these areas. He will review options\, information\, and ideas on how to move forward in planning for a future where you may not be around and your child is well cared for. Exhale. Join us for an informative evening where you and other parents will learn about the proactive steps to take in your financial planning. See you there. \nParticipate in this talk at the DsCNW office or from the comfort of your home.\nWe will provide a zoom link the day of the talk.
URL:https://dsconnectionsnw.org/event/planning-for-the-future-with-jason-roesler/
LOCATION:Via Zoom or DsNW Office
ATTACH;FMTTYPE=image/jpeg:https://dsconnectionsnw.org/wp-content/uploads/2025/04/paper-layout-with-financial-information.jpeg
END:VEVENT
BEGIN:VEVENT
DTSTART;TZID=America/Los_Angeles:20250521T180000
DTEND;TZID=America/Los_Angeles:20250521T200000
DTSTAMP:20260424T005244
CREATED:20250215T164925Z
LAST-MODIFIED:20250215T164925Z
UID:3831-1747850400-1747857600@dsconnectionsnw.org
SUMMARY:Alyssa's Teen & Young Adult Meetup in Spokane Valley - May Meetup
DESCRIPTION:Let’s enjoy music\, fun\, laughter\, smiles and all that Alyssa and Chad can dream up. The DsConnectionsNW teem and young adult group in the Spokane Valley is all about making new friends\, finding out what you like to do\, and learning new skills. You won’t want to miss a thing!
URL:https://dsconnectionsnw.org/event/alyssas-teen-young-adult-meetup-in-spokane-valley-may-meetup/
LOCATION:Stepping Stones Pediatric Therapy Center\, 15920 E Indiana Ave\, Spokane Valley\, WA\, 99216\, United States
END:VEVENT
BEGIN:VEVENT
DTSTART;TZID=America/Los_Angeles:20250527T180000
DTEND;TZID=America/Los_Angeles:20250527T200000
DTSTAMP:20260424T005244
CREATED:20250304T001010Z
LAST-MODIFIED:20250304T001010Z
UID:3876-1748368800-1748376000@dsconnectionsnw.org
SUMMARY:Zion's Game Night
DESCRIPTION:Let’s get together! Teen/Young Adults (ages 15-35) are you ready for a wonderful time? There will be great music\, snacks\, beverages and best of all – Friends & Fun. You won’t want to miss this ’cause Zion puts on quite a evening.
URL:https://dsconnectionsnw.org/event/zions-game-night-3/
LOCATION:Ds Connections Northwest\, 3839 W. Prairie Ave\, Hayden\, 83835\, United States
END:VEVENT
END:VCALENDAR