BEGIN:VCALENDAR
VERSION:2.0
PRODID:-//Ds Connections Nw - Down Syndrome Connections Northwest - ECPv6.15.20//NONSGML v1.0//EN
CALSCALE:GREGORIAN
METHOD:PUBLISH
X-ORIGINAL-URL:https://dsconnectionsnw.org
X-WR-CALDESC:Events for Ds Connections Nw - Down Syndrome Connections Northwest
REFRESH-INTERVAL;VALUE=DURATION:PT1H
X-Robots-Tag:noindex
X-PUBLISHED-TTL:PT1H
BEGIN:VTIMEZONE
TZID:America/Los_Angeles
BEGIN:DAYLIGHT
TZOFFSETFROM:-0800
TZOFFSETTO:-0700
TZNAME:PDT
DTSTART:20240310T100000
END:DAYLIGHT
BEGIN:STANDARD
TZOFFSETFROM:-0700
TZOFFSETTO:-0800
TZNAME:PST
DTSTART:20241103T090000
END:STANDARD
BEGIN:DAYLIGHT
TZOFFSETFROM:-0800
TZOFFSETTO:-0700
TZNAME:PDT
DTSTART:20250309T100000
END:DAYLIGHT
BEGIN:STANDARD
TZOFFSETFROM:-0700
TZOFFSETTO:-0800
TZNAME:PST
DTSTART:20251102T090000
END:STANDARD
BEGIN:DAYLIGHT
TZOFFSETFROM:-0800
TZOFFSETTO:-0700
TZNAME:PDT
DTSTART:20260308T100000
END:DAYLIGHT
BEGIN:STANDARD
TZOFFSETFROM:-0700
TZOFFSETTO:-0800
TZNAME:PST
DTSTART:20261101T090000
END:STANDARD
END:VTIMEZONE
BEGIN:VEVENT
DTSTART;VALUE=DATE:20250416
DTEND;VALUE=DATE:20250417
DTSTAMP:20260424T021717
CREATED:20250412T032129Z
LAST-MODIFIED:20250412T032129Z
UID:3931-1744761600-1744847999@dsconnectionsnw.org
SUMMARY:Deadline to Register - Silverwood 'Night of the Stars'
DESCRIPTION:Silverwood’s Night of the Stars registration deadline is TODAY!\nThe event will be Friday\, May 16th from 4-8PM. \nSilverwood opens the park one week early just for Night of the Stars – special needs children and their families/caregivers.\nThis event is FREE to one child (Star) and one adult. Plus a meal for these 2 individuals.\nTickets and meals are available for other family members and friends at a reduced cost of $25.\nTo register: send an email to info@dsconnectionsnw.org with:\n1. Star’s name\, *email and phone *(if over 18 and can sign waiver themselves)\n2. Parent\, guardian or care taker name\, email and phone (if Star is under 18 or can’t sign for themselves). \nREGISTRATION DEADLINE 4/16/2025\nAfter we input your information – you will receive an email with instructions and waiver to sign along with your ticket (one ticket covers Star and their parent/caregiver).
URL:https://dsconnectionsnw.org/event/deadline-to-register-silverwood-night-of-the-stars/
LOCATION:Silverwood Theme Park\, 27843 US-95\, Athol\, ID\, 83801\, United States
ATTACH;FMTTYPE=image/jpeg:https://dsconnectionsnw.org/wp-content/uploads/2025/04/1319f8394524761fe62efd46371b1cb6.jpg
END:VEVENT
BEGIN:VEVENT
DTSTART;TZID=America/Los_Angeles:20250427T140000
DTEND;TZID=America/Los_Angeles:20250427T160000
DTSTAMP:20260424T021717
CREATED:20250412T030731Z
LAST-MODIFIED:20250412T030731Z
UID:3916-1745762400-1745769600@dsconnectionsnw.org
SUMMARY:Make a Mother's Day Gift: Paint-A-Pot
DESCRIPTION:REGISTER HERE: https://www.flipcause.com/secure/cause_pdetails/MjMwNzEx \nNeed a Mother’s Day gift? Are you looking for a fun family event?\nCome paint a flower pot and make a card with us! \nLocation: Jacklin Arts and Cultural Center in Post Falls\, Upstairs Gallery (elevator available)\n405 N William St.\nPost Falls\, ID 83854\nSunday\, April 27th from 2-4pm \nWe are so lucky to have Kim Washko\, former owner of Hands to Art paint studio\, on hand to help with this project!  Show up\, have a snack and drink and paint your pot!  Pots will be kiln fired (makes the paint permanent) and then available for pickup at the Ds office in Hayden with a little something to plant in them.  The pots will be packed up and ready for gift giving! \nWe will have to go kits available for those that can’t attend the April 27th event. Pickup will be at the Jacklin Arts on Sunday\, April 27th 2-4pm or the DsCNW office 3839 W Prairie\, Hayden\, Tuesday April 29th. (Please email info@dsconnectionsnw.org to arrange another day). In person registration is limited due to space limitations. \nREGISTRATION CLOSES SUNDAY\, APRIL 20TH – Register today and don’t miss out on this fun event!
URL:https://dsconnectionsnw.org/event/make-a-mothers-day-gift-paint-a-pot/
LOCATION:Jacklin Arts Cultural Center\, 405 N William St.\, Post Falls\, ID\, 83854\, United States
ATTACH;FMTTYPE=image/jpeg:https://dsconnectionsnw.org/wp-content/uploads/2025/04/terracotta-pot-painting-11-1024x683-1.jpg
END:VEVENT
BEGIN:VEVENT
DTSTART;TZID=America/Los_Angeles:20250429T180000
DTEND;TZID=America/Los_Angeles:20250429T200000
DTSTAMP:20260424T021717
CREATED:20250304T000908Z
LAST-MODIFIED:20250304T000939Z
UID:3874-1745949600-1745956800@dsconnectionsnw.org
SUMMARY:Zion's Game Night
DESCRIPTION:Let’s get together! Teen/Young Adults (ages 15-35) are you ready for a wonderful time? There will be great music\, snacks\, beverages and best of all – Friends & Fun. You won’t want to miss this ’cause Zion puts on quite a evening.
URL:https://dsconnectionsnw.org/event/zions-game-night-2/
LOCATION:Ds Connections Northwest\, 3839 W. Prairie Ave\, Hayden\, 83835\, United States
END:VEVENT
END:VCALENDAR