BEGIN:VCALENDAR
VERSION:2.0
PRODID:-//Ds Connections Nw - Down Syndrome Connections Northwest - ECPv6.15.20//NONSGML v1.0//EN
CALSCALE:GREGORIAN
METHOD:PUBLISH
X-WR-CALNAME:Ds Connections Nw - Down Syndrome Connections Northwest
X-ORIGINAL-URL:https://dsconnectionsnw.org
X-WR-CALDESC:Events for Ds Connections Nw - Down Syndrome Connections Northwest
REFRESH-INTERVAL;VALUE=DURATION:PT1H
X-Robots-Tag:noindex
X-PUBLISHED-TTL:PT1H
BEGIN:VTIMEZONE
TZID:America/Los_Angeles
BEGIN:DAYLIGHT
TZOFFSETFROM:-0800
TZOFFSETTO:-0700
TZNAME:PDT
DTSTART:20240310T100000
END:DAYLIGHT
BEGIN:STANDARD
TZOFFSETFROM:-0700
TZOFFSETTO:-0800
TZNAME:PST
DTSTART:20241103T090000
END:STANDARD
BEGIN:DAYLIGHT
TZOFFSETFROM:-0800
TZOFFSETTO:-0700
TZNAME:PDT
DTSTART:20250309T100000
END:DAYLIGHT
BEGIN:STANDARD
TZOFFSETFROM:-0700
TZOFFSETTO:-0800
TZNAME:PST
DTSTART:20251102T090000
END:STANDARD
BEGIN:DAYLIGHT
TZOFFSETFROM:-0800
TZOFFSETTO:-0700
TZNAME:PDT
DTSTART:20260308T100000
END:DAYLIGHT
BEGIN:STANDARD
TZOFFSETFROM:-0700
TZOFFSETTO:-0800
TZNAME:PST
DTSTART:20261101T090000
END:STANDARD
END:VTIMEZONE
BEGIN:VEVENT
DTSTART;VALUE=DATE:20250321
DTEND;VALUE=DATE:20250322
DTSTAMP:20260423T172432
CREATED:20250215T170354Z
LAST-MODIFIED:20250227T215847Z
UID:3847-1742515200-1742601599@dsconnectionsnw.org
SUMMARY:World Down syndrome Day!
DESCRIPTION:On March 21st\, 2025 – celebrate World Down syndrome day! Participate by supporting one of the many local businesses who are involved in advocating\, or contact us to learn how you (and your business) can directly participate in World Ds Day!
URL:https://dsconnectionsnw.org/event/world-down-syndrome-day/
LOCATION:WA
END:VEVENT
BEGIN:VEVENT
DTSTART;TZID=America/Los_Angeles:20250319T180000
DTEND;TZID=America/Los_Angeles:20250319T200000
DTSTAMP:20260423T172432
CREATED:20250215T164800Z
LAST-MODIFIED:20250215T164800Z
UID:3827-1742407200-1742414400@dsconnectionsnw.org
SUMMARY:Alyssa's Teen & Young Adult Meetup in Spokane Valley - March Meetup
DESCRIPTION:Let’s enjoy music\, fun\, laughter\, smiles and all that Alyssa and Chad can dream up. The DsConnectionsNW teem and young adult group in the Spokane Valley is all about making new friends\, finding out what you like to do\, and learning new skills. You won’t want to miss a thing!
URL:https://dsconnectionsnw.org/event/alyssas-teen-young-adult-meetup-in-spokane-valley-march-meetup/
LOCATION:Stepping Stones Pediatric Therapy Center\, 15920 E Indiana Ave\, Spokane Valley\, WA\, 99216\, United States
END:VEVENT
BEGIN:VEVENT
DTSTART;TZID=America/Los_Angeles:20250219T180000
DTEND;TZID=America/Los_Angeles:20250219T200000
DTSTAMP:20260423T172432
CREATED:20250205T055705Z
LAST-MODIFIED:20250215T164540Z
UID:3823-1739988000-1739995200@dsconnectionsnw.org
SUMMARY:Alyssa's Teen & Young Adult Meetup in Spokane Valley
DESCRIPTION:Let’s enjoy music\, fun\, laughter\, smiles and all that Alyssa and Chad can dream up. The DsConnectionsNW teem and young adult group in the Spokane Valley is all about making new friends\, finding out what you like to do\, and learning new skills. You won’t want to miss a thing!
URL:https://dsconnectionsnw.org/event/alyssas-teen-young-adult-meetup-in-spokane-valley/
LOCATION:Stepping Stones Pediatric Therapy Center\, 15920 E Indiana Ave\, Spokane Valley\, WA\, 99216\, United States
END:VEVENT
END:VCALENDAR