BEGIN:VCALENDAR
VERSION:2.0
PRODID:-//Ds Connections Nw - Down Syndrome Connections Northwest - ECPv6.15.20//NONSGML v1.0//EN
CALSCALE:GREGORIAN
METHOD:PUBLISH
X-WR-CALNAME:Ds Connections Nw - Down Syndrome Connections Northwest
X-ORIGINAL-URL:https://dsconnectionsnw.org
X-WR-CALDESC:Events for Ds Connections Nw - Down Syndrome Connections Northwest
REFRESH-INTERVAL;VALUE=DURATION:PT1H
X-Robots-Tag:noindex
X-PUBLISHED-TTL:PT1H
BEGIN:VTIMEZONE
TZID:America/Los_Angeles
BEGIN:DAYLIGHT
TZOFFSETFROM:-0800
TZOFFSETTO:-0700
TZNAME:PDT
DTSTART:20250309T100000
END:DAYLIGHT
BEGIN:STANDARD
TZOFFSETFROM:-0700
TZOFFSETTO:-0800
TZNAME:PST
DTSTART:20251102T090000
END:STANDARD
BEGIN:DAYLIGHT
TZOFFSETFROM:-0800
TZOFFSETTO:-0700
TZNAME:PDT
DTSTART:20260308T100000
END:DAYLIGHT
BEGIN:STANDARD
TZOFFSETFROM:-0700
TZOFFSETTO:-0800
TZNAME:PST
DTSTART:20261101T090000
END:STANDARD
BEGIN:DAYLIGHT
TZOFFSETFROM:-0800
TZOFFSETTO:-0700
TZNAME:PDT
DTSTART:20270314T100000
END:DAYLIGHT
BEGIN:STANDARD
TZOFFSETFROM:-0700
TZOFFSETTO:-0800
TZNAME:PST
DTSTART:20271107T090000
END:STANDARD
END:VTIMEZONE
BEGIN:VEVENT
DTSTART;TZID=America/Los_Angeles:20260422T180000
DTEND;TZID=America/Los_Angeles:20260422T200000
DTSTAMP:20260423T160320
CREATED:20260414T191200Z
LAST-MODIFIED:20260414T191200Z
UID:4510-1776880800-1776888000@dsconnectionsnw.org
SUMMARY:Teen and Young Adult Night - Spokane Valley
DESCRIPTION:🌱 Spokane Valley Teen & Young Adult Connect Group Invite 🌱\n\n\n \n\n\nJoin us as we celebrate Earth Day with a fun\, hands-on evening! 🌎\n\n\n \n\n\nGet your hands a little dirty as we plant seeds\, work with soil\, and create your very own plant to take home. Watch it grow and nurture something special long after the event!\n\n\n \n\n\n🪴 What to Expect:\n\n\nPlanting pots\, dirt & seeds\n\n\nA take-home plant you create\n\n\nTime to connect\, laugh\, and have fun with friends\n\n\n \n\n\n📅 Date: April 22nd\n\n\n⏰ Time: 6:00–8:00 PM\n\n\n📍 Location: Stepping Stones Pediatric Therapy (Spokane Valley)\n\n\n \n\n\n🌿 Dress the part! Participants are encouraged to wear earthy colors to celebrate Earth Day.\n\n\n \n\n\nWe can’t wait to grow something amazing together! 💚
URL:https://dsconnectionsnw.org/event/teen-and-young-adult-night-spokane-valley/
LOCATION:Stepping Stones Pediatric Therapy Center\, 15920 E Indiana Ave\, Spokane Valley\, WA\, 99216\, United States
ATTACH;FMTTYPE=image/jpeg:https://dsconnectionsnw.org/wp-content/uploads/2026/04/happy-earth-day-background-free-vector.jpg
END:VEVENT
BEGIN:VEVENT
DTSTART;TZID=America/Los_Angeles:20260502T110000
DTEND;TZID=America/Los_Angeles:20260502T130000
DTSTAMP:20260423T160320
CREATED:20260414T191820Z
LAST-MODIFIED:20260414T191820Z
UID:4513-1777719600-1777726800@dsconnectionsnw.org
SUMMARY:Mother's Day Tea
DESCRIPTION:🌸 You’re Invited: Mother’s Day Tea 🌸 \nJoin us for a special Mother’s Day Tea at the DSCNW Office on May 2nd from 11:00 AM – 1:00 PM! \nEnjoy a relaxing and meaningful afternoon featuring:\n☕ A guided tea talk with Amanda\, all about different types of tea\n🌿 Craft your own custom tea blend to take home\n🎁 Create a simple\, giftable craft to hold your newly made tea\n🥪 A light lunch with a variety of tea sandwiches and delicious desserts (GF available) \n✨ Only $10 per person \n💛 Don’t have a mother attending? You’re still welcome—invite a friend and join us! \n🎟️ Registration is now LIVE!\nSpots are limited to just 20 people\, so be sure to reserve your spot soon! \n💐 We can’t wait to celebrate with you!
URL:https://dsconnectionsnw.org/event/mothers-day-tea/
LOCATION:Ds Connections Northwest\, 3839 W. Prairie Ave\, Hayden\, 83835\, United States
ATTACH;FMTTYPE=image/jpeg:https://dsconnectionsnw.org/wp-content/uploads/2026/04/IMG_2193-scaled.jpeg
END:VEVENT
END:VCALENDAR