BEGIN:VCALENDAR
VERSION:2.0
PRODID:-//Ds Connections Nw - Down Syndrome Connections Northwest - ECPv6.15.20//NONSGML v1.0//EN
CALSCALE:GREGORIAN
METHOD:PUBLISH
X-ORIGINAL-URL:https://dsconnectionsnw.org
X-WR-CALDESC:Events for Ds Connections Nw - Down Syndrome Connections Northwest
REFRESH-INTERVAL;VALUE=DURATION:PT1H
X-Robots-Tag:noindex
X-PUBLISHED-TTL:PT1H
BEGIN:VTIMEZONE
TZID:America/Los_Angeles
BEGIN:DAYLIGHT
TZOFFSETFROM:-0800
TZOFFSETTO:-0700
TZNAME:PDT
DTSTART:20250309T100000
END:DAYLIGHT
BEGIN:STANDARD
TZOFFSETFROM:-0700
TZOFFSETTO:-0800
TZNAME:PST
DTSTART:20251102T090000
END:STANDARD
BEGIN:DAYLIGHT
TZOFFSETFROM:-0800
TZOFFSETTO:-0700
TZNAME:PDT
DTSTART:20260308T100000
END:DAYLIGHT
BEGIN:STANDARD
TZOFFSETFROM:-0700
TZOFFSETTO:-0800
TZNAME:PST
DTSTART:20261101T090000
END:STANDARD
BEGIN:DAYLIGHT
TZOFFSETFROM:-0800
TZOFFSETTO:-0700
TZNAME:PDT
DTSTART:20270314T100000
END:DAYLIGHT
BEGIN:STANDARD
TZOFFSETFROM:-0700
TZOFFSETTO:-0800
TZNAME:PST
DTSTART:20271107T090000
END:STANDARD
END:VTIMEZONE
BEGIN:VEVENT
DTSTART;TZID=America/Los_Angeles:20260402T180000
DTEND;TZID=America/Los_Angeles:20260402T200000
DTSTAMP:20260423T092400
CREATED:20260317T222129Z
LAST-MODIFIED:20260328T181338Z
UID:4471-1775152800-1775160000@dsconnectionsnw.org
SUMMARY:Teen and Young Adult Night - Hayden
DESCRIPTION:🕺🎉 JUST DANCE NIGHT WITH ZION! 🎉🕺 \nCome join Zion for a fun night of dancing at the DsCNW office! \n📅 Thursday\, April 2nd (please note date change)\n⏰ 6:00–8:00 PM\n📍 Ds Connections NW Office \nEnjoy an evening filled with:\n🎶 Music\n🍿 Snacks\n🕺Dancing\n🔢 And of course… SMILES! \nBring your dancing shoes and get ready for a night of laughter\, connection\, and fun. We can’t wait to see you there! 💙
URL:https://dsconnectionsnw.org/event/teen-and-young-adult-night-hayden/
LOCATION:Ds Connections Northwest\, 3839 W. Prairie Ave\, Hayden\, 83835\, United States
ATTACH;FMTTYPE=image/jpeg:https://dsconnectionsnw.org/wp-content/uploads/2026/01/Event_TeenYA_Hayden.jpg
END:VEVENT
END:VCALENDAR