BEGIN:VCALENDAR
VERSION:2.0
PRODID:-//Ds Connections Nw - Down Syndrome Connections Northwest - ECPv6.15.20//NONSGML v1.0//EN
CALSCALE:GREGORIAN
METHOD:PUBLISH
X-ORIGINAL-URL:https://dsconnectionsnw.org
X-WR-CALDESC:Events for Ds Connections Nw - Down Syndrome Connections Northwest
REFRESH-INTERVAL;VALUE=DURATION:PT1H
X-Robots-Tag:noindex
X-PUBLISHED-TTL:PT1H
BEGIN:VTIMEZONE
TZID:America/Los_Angeles
BEGIN:DAYLIGHT
TZOFFSETFROM:-0800
TZOFFSETTO:-0700
TZNAME:PDT
DTSTART:20250309T100000
END:DAYLIGHT
BEGIN:STANDARD
TZOFFSETFROM:-0700
TZOFFSETTO:-0800
TZNAME:PST
DTSTART:20251102T090000
END:STANDARD
BEGIN:DAYLIGHT
TZOFFSETFROM:-0800
TZOFFSETTO:-0700
TZNAME:PDT
DTSTART:20260308T100000
END:DAYLIGHT
BEGIN:STANDARD
TZOFFSETFROM:-0700
TZOFFSETTO:-0800
TZNAME:PST
DTSTART:20261101T090000
END:STANDARD
BEGIN:DAYLIGHT
TZOFFSETFROM:-0800
TZOFFSETTO:-0700
TZNAME:PDT
DTSTART:20270314T100000
END:DAYLIGHT
BEGIN:STANDARD
TZOFFSETFROM:-0700
TZOFFSETTO:-0800
TZNAME:PST
DTSTART:20271107T090000
END:STANDARD
END:VTIMEZONE
BEGIN:VEVENT
DTSTART;TZID=America/Los_Angeles:20260318T180000
DTEND;TZID=America/Los_Angeles:20260318T200000
DTSTAMP:20260423T105151
CREATED:20260317T214335Z
LAST-MODIFIED:20260317T214335Z
UID:4467-1773856800-1773864000@dsconnectionsnw.org
SUMMARY:Teen and Young Adult Spokane Valley
DESCRIPTION:🍀 Spokane Valley Teen & Young Adult Connect Group 🍀 \nJoin Alyssa for our next Connect Group as we celebrate with a St. Paddy’s Day Party! \n📅 Wednesday\, March 18th\n⏰ 6:00–8:00 PM \nGet ready for a fun evening filled with a combination of games and activities\, including cookie decorating! 🍪 \n👕 Wear green\n🧦 Bring your favorite festive socks \n✨ Reminder: Please be sure to fill out your waiver before attending. \nDSCNW 2026 Teen & Young Adult Waiver \nCome ready to laugh\, connect\, and celebrate together. We can’t wait to see you there! 🍀
URL:https://dsconnectionsnw.org/event/teen-and-young-adult-spokane-valley/
LOCATION:Stepping Stones Pediatric Therapy Center\, 15920 E Indiana Ave\, Spokane Valley\, WA\, 99216\, United States
ATTACH;FMTTYPE=image/jpeg:https://dsconnectionsnw.org/wp-content/uploads/2026/03/St-Patricks-Day.jpg
END:VEVENT
END:VCALENDAR