BEGIN:VCALENDAR
VERSION:2.0
PRODID:-//Ds Connections Nw - Down Syndrome Connections Northwest - ECPv6.15.20//NONSGML v1.0//EN
CALSCALE:GREGORIAN
METHOD:PUBLISH
X-ORIGINAL-URL:https://dsconnectionsnw.org
X-WR-CALDESC:Events for Ds Connections Nw - Down Syndrome Connections Northwest
REFRESH-INTERVAL;VALUE=DURATION:PT1H
X-Robots-Tag:noindex
X-PUBLISHED-TTL:PT1H
BEGIN:VTIMEZONE
TZID:America/Los_Angeles
BEGIN:DAYLIGHT
TZOFFSETFROM:-0800
TZOFFSETTO:-0700
TZNAME:PDT
DTSTART:20250309T100000
END:DAYLIGHT
BEGIN:STANDARD
TZOFFSETFROM:-0700
TZOFFSETTO:-0800
TZNAME:PST
DTSTART:20251102T090000
END:STANDARD
BEGIN:DAYLIGHT
TZOFFSETFROM:-0800
TZOFFSETTO:-0700
TZNAME:PDT
DTSTART:20260308T100000
END:DAYLIGHT
BEGIN:STANDARD
TZOFFSETFROM:-0700
TZOFFSETTO:-0800
TZNAME:PST
DTSTART:20261101T090000
END:STANDARD
BEGIN:DAYLIGHT
TZOFFSETFROM:-0800
TZOFFSETTO:-0700
TZNAME:PDT
DTSTART:20270314T100000
END:DAYLIGHT
BEGIN:STANDARD
TZOFFSETFROM:-0700
TZOFFSETTO:-0800
TZNAME:PST
DTSTART:20271107T090000
END:STANDARD
END:VTIMEZONE
BEGIN:VEVENT
DTSTART;TZID=America/Los_Angeles:20260228T100000
DTEND;TZID=America/Los_Angeles:20260228T130000
DTSTAMP:20260423T105043
CREATED:20260221T231837Z
LAST-MODIFIED:20260221T231837Z
UID:4425-1772272800-1772283600@dsconnectionsnw.org
SUMMARY:Ladies Homestead Gathering - Flea Market Fundraiser
DESCRIPTION:🛍️✨ You’re Invited! ✨🛍️ \nJoin us for the Ladies Homestead Gathering Flea Market Fundraiser supporting Down Syndrome Connections NW! 💙 \n🗓 February 28th⏰ 10:00 AM – 1:00 PM📍 His Place Church (3079 E 16th Ave\, Post Falls\, ID) \nCome shop and support a great cause!• 20+ local vendors• Handmade goods• Bake sale• Unique treasures & more!!! \nBring a friend\, grab a coffee\, and enjoy a fun morning of shopping — all while helping us continue supporting\, connecting\, and uplifting our local Down syndrome community. 💙 \nWe can’t wait to see you there!
URL:https://dsconnectionsnw.org/event/ladies-homestead-gathering-flea-market-fundraiser/
LOCATION:His Place Church\, 3079 E 16th Ave\, Post Falls\, IDAHO
ATTACH;FMTTYPE=image/jpeg:https://dsconnectionsnw.org/wp-content/uploads/2026/02/image000001.jpg
END:VEVENT
END:VCALENDAR