BEGIN:VCALENDAR
VERSION:2.0
PRODID:-//Ds Connections Nw - Down Syndrome Connections Northwest - ECPv6.15.20//NONSGML v1.0//EN
CALSCALE:GREGORIAN
METHOD:PUBLISH
X-WR-CALNAME:Ds Connections Nw - Down Syndrome Connections Northwest
X-ORIGINAL-URL:https://dsconnectionsnw.org
X-WR-CALDESC:Events for Ds Connections Nw - Down Syndrome Connections Northwest
REFRESH-INTERVAL;VALUE=DURATION:PT1H
X-Robots-Tag:noindex
X-PUBLISHED-TTL:PT1H
BEGIN:VTIMEZONE
TZID:America/Los_Angeles
BEGIN:DAYLIGHT
TZOFFSETFROM:-0800
TZOFFSETTO:-0700
TZNAME:PDT
DTSTART:20250309T100000
END:DAYLIGHT
BEGIN:STANDARD
TZOFFSETFROM:-0700
TZOFFSETTO:-0800
TZNAME:PST
DTSTART:20251102T090000
END:STANDARD
BEGIN:DAYLIGHT
TZOFFSETFROM:-0800
TZOFFSETTO:-0700
TZNAME:PDT
DTSTART:20260308T100000
END:DAYLIGHT
BEGIN:STANDARD
TZOFFSETFROM:-0700
TZOFFSETTO:-0800
TZNAME:PST
DTSTART:20261101T090000
END:STANDARD
BEGIN:DAYLIGHT
TZOFFSETFROM:-0800
TZOFFSETTO:-0700
TZNAME:PDT
DTSTART:20270314T100000
END:DAYLIGHT
BEGIN:STANDARD
TZOFFSETFROM:-0700
TZOFFSETTO:-0800
TZNAME:PST
DTSTART:20271107T090000
END:STANDARD
END:VTIMEZONE
BEGIN:VEVENT
DTSTART;TZID=America/Los_Angeles:20260224T180000
DTEND;TZID=America/Los_Angeles:20260224T200000
DTSTAMP:20260423T104911
CREATED:20260126T161731Z
LAST-MODIFIED:20260221T223813Z
UID:4403-1771956000-1771963200@dsconnectionsnw.org
SUMMARY:Teen and Young Adult Game Night with Zion | Hayden
DESCRIPTION:Are you ready to hang out and have a blast?\nTeens and young adults (ages 15-25)\, this night is for you! \nGet pumped for awesome music\, tasty snacks\, cool drinks\, and — most importantly — amazing friends and nonstop fun. \nTrust us\, you don’t want to miss out\, because when Zion throws a party\, it’s always epic!
URL:https://dsconnectionsnw.org/event/teen-and-young-adult-game-night-with-zion-hayden/
LOCATION:Ds Connections Northwest\, 3839 W. Prairie Ave\, Hayden\, 83835\, United States
ATTACH;FMTTYPE=image/jpeg:https://dsconnectionsnw.org/wp-content/uploads/2026/01/Hero_Event_TeenYA-Hayden.jpg
END:VEVENT
END:VCALENDAR