BEGIN:VCALENDAR
VERSION:2.0
PRODID:-//Ds Connections Nw - Down Syndrome Connections Northwest - ECPv6.15.20//NONSGML v1.0//EN
CALSCALE:GREGORIAN
METHOD:PUBLISH
X-WR-CALNAME:Ds Connections Nw - Down Syndrome Connections Northwest
X-ORIGINAL-URL:https://dsconnectionsnw.org
X-WR-CALDESC:Events for Ds Connections Nw - Down Syndrome Connections Northwest
REFRESH-INTERVAL;VALUE=DURATION:PT1H
X-Robots-Tag:noindex
X-PUBLISHED-TTL:PT1H
BEGIN:VTIMEZONE
TZID:America/Los_Angeles
BEGIN:DAYLIGHT
TZOFFSETFROM:-0800
TZOFFSETTO:-0700
TZNAME:PDT
DTSTART:20240310T100000
END:DAYLIGHT
BEGIN:STANDARD
TZOFFSETFROM:-0700
TZOFFSETTO:-0800
TZNAME:PST
DTSTART:20241103T090000
END:STANDARD
BEGIN:DAYLIGHT
TZOFFSETFROM:-0800
TZOFFSETTO:-0700
TZNAME:PDT
DTSTART:20250309T100000
END:DAYLIGHT
BEGIN:STANDARD
TZOFFSETFROM:-0700
TZOFFSETTO:-0800
TZNAME:PST
DTSTART:20251102T090000
END:STANDARD
BEGIN:DAYLIGHT
TZOFFSETFROM:-0800
TZOFFSETTO:-0700
TZNAME:PDT
DTSTART:20260308T100000
END:DAYLIGHT
BEGIN:STANDARD
TZOFFSETFROM:-0700
TZOFFSETTO:-0800
TZNAME:PST
DTSTART:20261101T090000
END:STANDARD
END:VTIMEZONE
BEGIN:VEVENT
DTSTART;TZID=America/Los_Angeles:20251214T183000
DTEND;TZID=America/Los_Angeles:20251214T210000
DTSTAMP:20260423T155345
CREATED:20250304T000102Z
LAST-MODIFIED:20251106T222119Z
UID:3869-1765737000-1765746000@dsconnectionsnw.org
SUMMARY:Christmas Cruise on Lake CDA
DESCRIPTION:🎄 Join DsCNW for our Annual Cruise to the North Pole! 🚢✨ \nEnjoy a magical holiday adventure on beautiful Lake Coeur d’Alene! ❄️✨ \nThis private event is exclusively for Ds Connections NW families. We’ll be sailing on the smaller boats for a more peaceful\, cozy experience – perfect for enjoying the holiday magic without the crowds. 🌟 \nCruise Dates & Details: \n\nSunday\, November 23 @ 4:30 PM*\nSunday\, December 14 @ 6:30 PM*\n$20 per person (includes hot cocoa and cookies)**\n\n* Please arrive 30 mins early for your cruise. Meet near the fish tank inside the resort lobby. A designated Elf will greet you and guide you to the cruise boat for boarding. Boarding is at the Boardwalk Marina located on the East side of of the CDA Resort. \n**Please note: Even infants require a ticket. 🎟️ \n🎅 Tickets are limited to two parents/caregivers and three children per order to ensure every family has a chance to join the fun. \nDon’t miss this heartwarming DsCNW holiday tradition — filled with wonder\, laughter\, and Christmas joy for the whole family! ❤️🎁
URL:https://dsconnectionsnw.org/event/christmas-cruises-on-lake-cda-2/
ATTACH;FMTTYPE=image/jpeg:https://dsconnectionsnw.org/wp-content/uploads/2018/05/christmasheader-e1525908168214.jpg
END:VEVENT
END:VCALENDAR