BEGIN:VCALENDAR
VERSION:2.0
PRODID:-//Ds Connections Nw - Down Syndrome Connections Northwest - ECPv6.15.20//NONSGML v1.0//EN
CALSCALE:GREGORIAN
METHOD:PUBLISH
X-WR-CALNAME:Ds Connections Nw - Down Syndrome Connections Northwest
X-ORIGINAL-URL:https://dsconnectionsnw.org
X-WR-CALDESC:Events for Ds Connections Nw - Down Syndrome Connections Northwest
REFRESH-INTERVAL;VALUE=DURATION:PT1H
X-Robots-Tag:noindex
X-PUBLISHED-TTL:PT1H
BEGIN:VTIMEZONE
TZID:America/Los_Angeles
BEGIN:DAYLIGHT
TZOFFSETFROM:-0800
TZOFFSETTO:-0700
TZNAME:PDT
DTSTART:20240310T100000
END:DAYLIGHT
BEGIN:STANDARD
TZOFFSETFROM:-0700
TZOFFSETTO:-0800
TZNAME:PST
DTSTART:20241103T090000
END:STANDARD
BEGIN:DAYLIGHT
TZOFFSETFROM:-0800
TZOFFSETTO:-0700
TZNAME:PDT
DTSTART:20250309T100000
END:DAYLIGHT
BEGIN:STANDARD
TZOFFSETFROM:-0700
TZOFFSETTO:-0800
TZNAME:PST
DTSTART:20251102T090000
END:STANDARD
BEGIN:DAYLIGHT
TZOFFSETFROM:-0800
TZOFFSETTO:-0700
TZNAME:PDT
DTSTART:20260308T100000
END:DAYLIGHT
BEGIN:STANDARD
TZOFFSETFROM:-0700
TZOFFSETTO:-0800
TZNAME:PST
DTSTART:20261101T090000
END:STANDARD
END:VTIMEZONE
BEGIN:VEVENT
DTSTART;TZID=America/Los_Angeles:20251109T150000
DTEND;TZID=America/Los_Angeles:20251109T170000
DTSTAMP:20260423T173226
CREATED:20251025T173021Z
LAST-MODIFIED:20251026T011419Z
UID:4296-1762700400-1762707600@dsconnectionsnw.org
SUMMARY:DOMA Cafe - DsCNW Parent Connect
DESCRIPTION:DOMA Parent Connect EventSunday\, November 9 | 3:00 – 5:00 PMDOMA Café | 3091 N. Atlas Rd\, Coeur d’Alene\, ID \nJoin us for a warm and welcoming afternoon celebrating and connecting parents raising children or adults with Down syndrome. Enjoy a specialty drink from DOMA and a delicious charcuterie spread while creating your own simmer spice jar to take home and fill your space with cozy holiday scents. \nWe will also have Jason Roesler with C1 Wealth Management joining us in an informal setting to answer financial questions on topics such as: \n\nThe importance of wills and estate planning\n529A – ABLE Accounts\nFinancial limits and rules to be aware of\nSpecial Needs Trusts\n\nJason is also a parent of a child with Down syndrome and brings both professional expertise and personal experience to the conversation. \nPlease take a moment to thank DOMA for generously donating the use of their beautiful café to DsCNW. \nRegister by Sunday\, November 2.Cost: $3 per person to reserve your spot.
URL:https://dsconnectionsnw.org/event/doma-cafe-dscnw-parent-connect/
LOCATION:DOMA Cafe\, 3091 N Atlas Road\, Coeur d'Alene\, ID
ATTACH;FMTTYPE=image/jpeg:https://dsconnectionsnw.org/wp-content/uploads/2025/10/DOMA-Coffee-Lab-w-logo-scaled.jpg
END:VEVENT
END:VCALENDAR