BEGIN:VCALENDAR
VERSION:2.0
PRODID:-//Ds Connections Nw - Down Syndrome Connections Northwest - ECPv6.15.20//NONSGML v1.0//EN
CALSCALE:GREGORIAN
METHOD:PUBLISH
X-ORIGINAL-URL:https://dsconnectionsnw.org
X-WR-CALDESC:Events for Ds Connections Nw - Down Syndrome Connections Northwest
REFRESH-INTERVAL;VALUE=DURATION:PT1H
X-Robots-Tag:noindex
X-PUBLISHED-TTL:PT1H
BEGIN:VTIMEZONE
TZID:America/Los_Angeles
BEGIN:DAYLIGHT
TZOFFSETFROM:-0800
TZOFFSETTO:-0700
TZNAME:PDT
DTSTART:20240310T100000
END:DAYLIGHT
BEGIN:STANDARD
TZOFFSETFROM:-0700
TZOFFSETTO:-0800
TZNAME:PST
DTSTART:20241103T090000
END:STANDARD
BEGIN:DAYLIGHT
TZOFFSETFROM:-0800
TZOFFSETTO:-0700
TZNAME:PDT
DTSTART:20250309T100000
END:DAYLIGHT
BEGIN:STANDARD
TZOFFSETFROM:-0700
TZOFFSETTO:-0800
TZNAME:PST
DTSTART:20251102T090000
END:STANDARD
BEGIN:DAYLIGHT
TZOFFSETFROM:-0800
TZOFFSETTO:-0700
TZNAME:PDT
DTSTART:20260308T100000
END:DAYLIGHT
BEGIN:STANDARD
TZOFFSETFROM:-0700
TZOFFSETTO:-0800
TZNAME:PST
DTSTART:20261101T090000
END:STANDARD
END:VTIMEZONE
BEGIN:VEVENT
DTSTART;TZID=America/Los_Angeles:20251022T180000
DTEND;TZID=America/Los_Angeles:20251022T200000
DTSTAMP:20260423T190833
CREATED:20250215T165253Z
LAST-MODIFIED:20251003T002707Z
UID:3841-1761156000-1761163200@dsconnectionsnw.org
SUMMARY:Alyssa's Teen & Young Adult Meetup in Spokane Valley - October Meetup
DESCRIPTION:Let’s enjoy music\, fun\, laughter\, smiles and all that Alyssa and Chad can dream up. The DsConnectionsNW teem and young adult group in the Spokane Valley is all about making new friends\, finding out what you like to do\, and learning new skills. You won’t want to miss a thing!
URL:https://dsconnectionsnw.org/event/alyssas-teen-young-adult-meetup-in-spokane-valley-october-meetup/
LOCATION:Stepping Stones Pediatric Therapy Center\, 15920 E Indiana Ave\, Spokane Valley\, WA\, 99216\, United States
END:VEVENT
END:VCALENDAR