BEGIN:VCALENDAR
VERSION:2.0
PRODID:-//Ds Connections Nw - Down Syndrome Connections Northwest - ECPv6.15.20//NONSGML v1.0//EN
CALSCALE:GREGORIAN
METHOD:PUBLISH
X-WR-CALNAME:Ds Connections Nw - Down Syndrome Connections Northwest
X-ORIGINAL-URL:https://dsconnectionsnw.org
X-WR-CALDESC:Events for Ds Connections Nw - Down Syndrome Connections Northwest
REFRESH-INTERVAL;VALUE=DURATION:PT1H
X-Robots-Tag:noindex
X-PUBLISHED-TTL:PT1H
BEGIN:VTIMEZONE
TZID:America/Los_Angeles
BEGIN:DAYLIGHT
TZOFFSETFROM:-0800
TZOFFSETTO:-0700
TZNAME:PDT
DTSTART:20240310T100000
END:DAYLIGHT
BEGIN:STANDARD
TZOFFSETFROM:-0700
TZOFFSETTO:-0800
TZNAME:PST
DTSTART:20241103T090000
END:STANDARD
BEGIN:DAYLIGHT
TZOFFSETFROM:-0800
TZOFFSETTO:-0700
TZNAME:PDT
DTSTART:20250309T100000
END:DAYLIGHT
BEGIN:STANDARD
TZOFFSETFROM:-0700
TZOFFSETTO:-0800
TZNAME:PST
DTSTART:20251102T090000
END:STANDARD
BEGIN:DAYLIGHT
TZOFFSETFROM:-0800
TZOFFSETTO:-0700
TZNAME:PDT
DTSTART:20260308T100000
END:DAYLIGHT
BEGIN:STANDARD
TZOFFSETFROM:-0700
TZOFFSETTO:-0800
TZNAME:PST
DTSTART:20261101T090000
END:STANDARD
END:VTIMEZONE
BEGIN:VEVENT
DTSTART;TZID=America/Los_Angeles:20251004T170000
DTEND;TZID=America/Los_Angeles:20251004T190000
DTSTAMP:20260423T190700
CREATED:20251003T001833Z
LAST-MODIFIED:20251003T003127Z
UID:4282-1759597200-1759604400@dsconnectionsnw.org
SUMMARY:Sweet Treats at The Little Gym
DESCRIPTION:🍭🍪 Join Us for “Sweet Treats”! 🎉✨ A World Down Syndrome Awareness Month Celebration ✨ \n📅 Saturday\, October 4th⏰ 5:00–7:00 PM📍 The Little Gym\, Post Falls \nBring the whole family for an evening filled with treats\, fun\, and connection! 💙💛 This free event is open to all ages—whether you’re catching up with old friends or making new ones\, there’s something for everyone! 🎶🍰🎈 \nPlease register for this fun and FREE event.
URL:https://dsconnectionsnw.org/event/sweet-treats-at-the-little-gym/
LOCATION:The Little Gym of Post Falls\, 9044 W Prairie Ave Suite 103\, Post Falls\, ID\, 83854\, United States
ATTACH;FMTTYPE=image/png:https://dsconnectionsnw.org/wp-content/uploads/2025/04/download-1.png
END:VEVENT
END:VCALENDAR