BEGIN:VCALENDAR
VERSION:2.0
PRODID:-//Ds Connections Nw - Down Syndrome Connections Northwest - ECPv6.15.20//NONSGML v1.0//EN
CALSCALE:GREGORIAN
METHOD:PUBLISH
X-WR-CALNAME:Ds Connections Nw - Down Syndrome Connections Northwest
X-ORIGINAL-URL:https://dsconnectionsnw.org
X-WR-CALDESC:Events for Ds Connections Nw - Down Syndrome Connections Northwest
REFRESH-INTERVAL;VALUE=DURATION:PT1H
X-Robots-Tag:noindex
X-PUBLISHED-TTL:PT1H
BEGIN:VTIMEZONE
TZID:America/Los_Angeles
BEGIN:DAYLIGHT
TZOFFSETFROM:-0800
TZOFFSETTO:-0700
TZNAME:PDT
DTSTART:20240310T100000
END:DAYLIGHT
BEGIN:STANDARD
TZOFFSETFROM:-0700
TZOFFSETTO:-0800
TZNAME:PST
DTSTART:20241103T090000
END:STANDARD
BEGIN:DAYLIGHT
TZOFFSETFROM:-0800
TZOFFSETTO:-0700
TZNAME:PDT
DTSTART:20250309T100000
END:DAYLIGHT
BEGIN:STANDARD
TZOFFSETFROM:-0700
TZOFFSETTO:-0800
TZNAME:PST
DTSTART:20251102T090000
END:STANDARD
BEGIN:DAYLIGHT
TZOFFSETFROM:-0800
TZOFFSETTO:-0700
TZNAME:PDT
DTSTART:20260308T100000
END:DAYLIGHT
BEGIN:STANDARD
TZOFFSETFROM:-0700
TZOFFSETTO:-0800
TZNAME:PST
DTSTART:20261101T090000
END:STANDARD
END:VTIMEZONE
BEGIN:VEVENT
DTSTART;TZID=America/Los_Angeles:20250620T090000
DTEND;TZID=America/Los_Angeles:20250918T170000
DTSTAMP:20260423T220327
CREATED:20250606T191703Z
LAST-MODIFIED:20250620T222020Z
UID:3975-1750410000-1758214800@dsconnectionsnw.org
SUMMARY:Past Walk T-shirts
DESCRIPTION:DsCNW Past Walk Tees – Suggested Donation \nT-shirts are suggested donation of $5 each or pick 4 get one extra – only $20 donation for 5 t-shirts! \nUse code ‘pick4get1‘ to get your extra t-shirt. \nHead to our zeffy\, link on the right of this page\, where all colors and sizes are listed.  Donate and get some new summer tees – it’s a win-win!
URL:https://dsconnectionsnw.org/event/past-walk-t-shirts/
LOCATION:Ds Connections Northwest\, 3839 W. Prairie Ave\, Hayden\, 83835\, United States
END:VEVENT
END:VCALENDAR