BEGIN:VCALENDAR
VERSION:2.0
PRODID:-//Ds Connections Nw - Down Syndrome Connections Northwest - ECPv6.15.20//NONSGML v1.0//EN
CALSCALE:GREGORIAN
METHOD:PUBLISH
X-WR-CALNAME:Ds Connections Nw - Down Syndrome Connections Northwest
X-ORIGINAL-URL:https://dsconnectionsnw.org
X-WR-CALDESC:Events for Ds Connections Nw - Down Syndrome Connections Northwest
REFRESH-INTERVAL;VALUE=DURATION:PT1H
X-Robots-Tag:noindex
X-PUBLISHED-TTL:PT1H
BEGIN:VTIMEZONE
TZID:America/Los_Angeles
BEGIN:DAYLIGHT
TZOFFSETFROM:-0800
TZOFFSETTO:-0700
TZNAME:PDT
DTSTART:20240310T100000
END:DAYLIGHT
BEGIN:STANDARD
TZOFFSETFROM:-0700
TZOFFSETTO:-0800
TZNAME:PST
DTSTART:20241103T090000
END:STANDARD
BEGIN:DAYLIGHT
TZOFFSETFROM:-0800
TZOFFSETTO:-0700
TZNAME:PDT
DTSTART:20250309T100000
END:DAYLIGHT
BEGIN:STANDARD
TZOFFSETFROM:-0700
TZOFFSETTO:-0800
TZNAME:PST
DTSTART:20251102T090000
END:STANDARD
BEGIN:DAYLIGHT
TZOFFSETFROM:-0800
TZOFFSETTO:-0700
TZNAME:PDT
DTSTART:20260308T100000
END:DAYLIGHT
BEGIN:STANDARD
TZOFFSETFROM:-0700
TZOFFSETTO:-0800
TZNAME:PST
DTSTART:20261101T090000
END:STANDARD
END:VTIMEZONE
BEGIN:VEVENT
DTSTART;VALUE=DATE:20250614
DTEND;VALUE=DATE:20250615
DTSTAMP:20260424T005239
CREATED:20250412T033359Z
LAST-MODIFIED:20250602T185807Z
UID:3936-1749859200-1749945599@dsconnectionsnw.org
SUMMARY:The Little Gym - Ds Connect Group
DESCRIPTION:🎉 Join Us for a ‘Just Desserts’ Father’s Day Celebration! 🎉\nFriday\, June 14th | 5:00–7:00 PM\n📍 The Little Gym\, Post Falls\n  \nBring the whole family and join us for an evening of fun\, connection\, and celebration! Whether you’re reconnecting with old friends or meeting new ones\, this free event is open to all ages and promises something for everyone. \n\n💙 Event Highlights:✅ FREE gym activities for children ages 5 months – 12 years (with parent supervision)🎨 Crafts and fun for older kids and participants \n🥧 Sweet Em’s Bakery and Village Bakery  are donating desserts \n🌟 Special Thanks to Chris Goodwin and The Little GymChris is generously providing the gym space at no cost to our Ds families—and he has an evening full of exciting activities planned through The Little Gym’s movement and imaginative play program! \n\n👨‍👩‍👧‍👦 All are welcome—don’t miss out!Registration is required for children ages 5 months – 12 years to ensure we have a spot reserved for them. \n📅 Register today and come celebrate with us! \nhttps://www.flipcause.com/secure/cause_pdetails/MjMyMjI4
URL:https://dsconnectionsnw.org/event/the-little-gym-ds-connect-group/
LOCATION:The Little Gym of Post Falls\, 9044 W Prairie Ave Suite 103\, Post Falls\, ID\, 83854\, United States
ATTACH;FMTTYPE=image/png:https://dsconnectionsnw.org/wp-content/uploads/2025/04/download-1.png
END:VEVENT
END:VCALENDAR