BEGIN:VCALENDAR
VERSION:2.0
PRODID:-//Ds Connections Nw - Down Syndrome Connections Northwest - ECPv6.15.20//NONSGML v1.0//EN
CALSCALE:GREGORIAN
METHOD:PUBLISH
X-WR-CALNAME:Ds Connections Nw - Down Syndrome Connections Northwest
X-ORIGINAL-URL:https://dsconnectionsnw.org
X-WR-CALDESC:Events for Ds Connections Nw - Down Syndrome Connections Northwest
REFRESH-INTERVAL;VALUE=DURATION:PT1H
X-Robots-Tag:noindex
X-PUBLISHED-TTL:PT1H
BEGIN:VTIMEZONE
TZID:America/Los_Angeles
BEGIN:DAYLIGHT
TZOFFSETFROM:-0800
TZOFFSETTO:-0700
TZNAME:PDT
DTSTART:20240310T100000
END:DAYLIGHT
BEGIN:STANDARD
TZOFFSETFROM:-0700
TZOFFSETTO:-0800
TZNAME:PST
DTSTART:20241103T090000
END:STANDARD
BEGIN:DAYLIGHT
TZOFFSETFROM:-0800
TZOFFSETTO:-0700
TZNAME:PDT
DTSTART:20250309T100000
END:DAYLIGHT
BEGIN:STANDARD
TZOFFSETFROM:-0700
TZOFFSETTO:-0800
TZNAME:PST
DTSTART:20251102T090000
END:STANDARD
BEGIN:DAYLIGHT
TZOFFSETFROM:-0800
TZOFFSETTO:-0700
TZNAME:PDT
DTSTART:20260308T100000
END:DAYLIGHT
BEGIN:STANDARD
TZOFFSETFROM:-0700
TZOFFSETTO:-0800
TZNAME:PST
DTSTART:20261101T090000
END:STANDARD
END:VTIMEZONE
BEGIN:VEVENT
DTSTART;TZID=America/Los_Angeles:20250606T190000
DTEND;TZID=America/Los_Angeles:20250606T220000
DTSTAMP:20260424T005240
CREATED:20250513T213614Z
LAST-MODIFIED:20250513T213614Z
UID:3955-1749236400-1749247200@dsconnectionsnw.org
SUMMARY:Spokane Indians Game - Friday June 6th at 7:05 PM
DESCRIPTION:DsCNW invites you for a night of baseball\, friends\, princes/princesses and connection at the Spokane Indians Game! \nAvista Stadium \n602 N Havana Street \nSpokane Valley\, WA 99212 \nFriday\, June 6th at 7:05PM \nWe have a block of 50 seats reserved at a discounted rate of $5 (plus fees) per ticket just for our DsCNW families! \nAvista Stadium transforms into a magical land full of princesses from your favorite fairy tales. Wear your prince or princess costume and take pictures with all your favorite storybook characters! Also\, pick up your Coeur d’Alene Casino BINGO card and play along with the game to win great prizes. \nStick around after the game for a great fireworks show courtesy of Mallory Paint Stores! \nRegister today and don’t miss out on this fun event!
URL:https://dsconnectionsnw.org/event/spokane-indians-game-friday-june-6th-at-705-pm/
LOCATION:Spokane Avista Stadium
ATTACH;FMTTYPE=image/jpeg:https://dsconnectionsnw.org/wp-content/uploads/2025/05/spokaneindians.jpeg
END:VEVENT
END:VCALENDAR