BEGIN:VCALENDAR
VERSION:2.0
PRODID:-//Ds Connections Nw - Down Syndrome Connections Northwest - ECPv6.15.20//NONSGML v1.0//EN
CALSCALE:GREGORIAN
METHOD:PUBLISH
X-ORIGINAL-URL:https://dsconnectionsnw.org
X-WR-CALDESC:Events for Ds Connections Nw - Down Syndrome Connections Northwest
REFRESH-INTERVAL;VALUE=DURATION:PT1H
X-Robots-Tag:noindex
X-PUBLISHED-TTL:PT1H
BEGIN:VTIMEZONE
TZID:America/Los_Angeles
BEGIN:DAYLIGHT
TZOFFSETFROM:-0800
TZOFFSETTO:-0700
TZNAME:PDT
DTSTART:20240310T100000
END:DAYLIGHT
BEGIN:STANDARD
TZOFFSETFROM:-0700
TZOFFSETTO:-0800
TZNAME:PST
DTSTART:20241103T090000
END:STANDARD
BEGIN:DAYLIGHT
TZOFFSETFROM:-0800
TZOFFSETTO:-0700
TZNAME:PDT
DTSTART:20250309T100000
END:DAYLIGHT
BEGIN:STANDARD
TZOFFSETFROM:-0700
TZOFFSETTO:-0800
TZNAME:PST
DTSTART:20251102T090000
END:STANDARD
BEGIN:DAYLIGHT
TZOFFSETFROM:-0800
TZOFFSETTO:-0700
TZNAME:PDT
DTSTART:20260308T100000
END:DAYLIGHT
BEGIN:STANDARD
TZOFFSETFROM:-0700
TZOFFSETTO:-0800
TZNAME:PST
DTSTART:20261101T090000
END:STANDARD
END:VTIMEZONE
BEGIN:VEVENT
DTSTART;TZID=America/Los_Angeles:20250605T100000
DTEND;TZID=America/Los_Angeles:20250605T120000
DTSTAMP:20260424T005244
CREATED:20250602T190846Z
LAST-MODIFIED:20250602T191749Z
UID:3966-1749117600-1749124800@dsconnectionsnw.org
SUMMARY:0-5 Connect Group
DESCRIPTION:New to the Down Syndrome Journey? You’re Not Alone. \nDo you have a new baby or toddler with Down syndrome? Is your mind swirling with questions and emotions that feel beyond your reach? Are you feeling overwhelmed\, uncertain\, or even isolated? \nPlease know—you’re not alone. \nThese feelings are completely normal\, and we understand them because we’ve been there too. \nJoin our monthly connection group—a welcoming space for parents and caregivers new to the Down syndrome community. Whether you need answers\, encouragement\, or simply someone who gets it\, we’re here for you. \nOur group offers: \n\nA supportive community that listens and understands\nReferrals to trusted community-based service providers\nRecommendations for helpful resources (books\, videos\, and more)\nEncouragement during both the challenging and joyful moments\n\nWe’re walking this journey together. Let us walk with you. \nThursday\, June 5th\, 2025\, 10am – 12pm \n \nOrchard Park \n20298 E Indiana Ave \nLiberty Lake\, WA 99019 \nThere is a splash pad and playground at this park.   \nWeather permitting\, please dress to get wet and bring a towel.\n\n \nPlease register with the link on the right under “website”.   \nWelcome to your new DsCNW Connect Group run by Jessica Rochon.  
URL:https://dsconnectionsnw.org/event/0-5-connect-group/
LOCATION:Orchard Park\, 20298 E Indiana Ave\, Liberty Lake\, WA\, 99019\, United States
ATTACH;FMTTYPE=image/png:https://dsconnectionsnw.org/wp-content/uploads/2025/06/Unknown.png
END:VEVENT
END:VCALENDAR